BEGIN:VCALENDAR
VERSION:2.0
PRODID:-//Honours College - ECPv5.4.0.2//NONSGML v1.0//EN
CALSCALE:GREGORIAN
METHOD:PUBLISH
X-WR-CALNAME:Honours College
X-ORIGINAL-URL:https://hc.um.edu.mo
X-WR-CALDESC:Events for Honours College
BEGIN:VTIMEZONE
TZID:Asia/Macau
BEGIN:STANDARD
TZOFFSETFROM:+0800
TZOFFSETTO:+0800
TZNAME:CST
DTSTART:20230101T000000
END:STANDARD
END:VTIMEZONE
BEGIN:VEVENT
DTSTART;TZID=Asia/Macau:20231011T170000
DTEND;TZID=Asia/Macau:20231011T183000
DTSTAMP:20260426T082339
CREATED:20231009T090915Z
LAST-MODIFIED:20231009T090928Z
UID:41407-1697043600-1697049000@hc.um.edu.mo
SUMMARY:CV & Personal Statement Workshop II
DESCRIPTION:
URL:https://hc.um.edu.mo/event/cv-personal-statement-workshop-ii/
END:VEVENT
END:VCALENDAR