BEGIN:VCALENDAR
VERSION:2.0
PRODID:-//Honours College - ECPv5.4.0.2//NONSGML v1.0//EN
CALSCALE:GREGORIAN
METHOD:PUBLISH
X-WR-CALNAME:Honours College
X-ORIGINAL-URL:https://hc.um.edu.mo
X-WR-CALDESC:Events for Honours College
BEGIN:VTIMEZONE
TZID:Asia/Macau
BEGIN:STANDARD
TZOFFSETFROM:+0800
TZOFFSETTO:+0800
TZNAME:CST
DTSTART:20240101T000000
END:STANDARD
END:VTIMEZONE
BEGIN:VEVENT
DTSTART;TZID=Asia/Macau:20240517T180000
DTEND;TZID=Asia/Macau:20240517T193000
DTSTAMP:20260425T230641
CREATED:20240506T062632Z
LAST-MODIFIED:20240506T062632Z
UID:43342-1715968800-1715974200@hc.um.edu.mo
SUMMARY:Graduation Gathering 2024
DESCRIPTION:
URL:https://hc.um.edu.mo/event/graduation-gathering-2024/
LOCATION:E12-G025
END:VEVENT
END:VCALENDAR