BEGIN:VCALENDAR
VERSION:2.0
PRODID:-//Honours College - ECPv5.4.0.2//NONSGML v1.0//EN
CALSCALE:GREGORIAN
METHOD:PUBLISH
X-WR-CALNAME:Honours College
X-ORIGINAL-URL:https://hc.um.edu.mo
X-WR-CALDESC:Events for Honours College
BEGIN:VTIMEZONE
TZID:Asia/Shanghai
BEGIN:STANDARD
TZOFFSETFROM:+0800
TZOFFSETTO:+0800
TZNAME:CST
DTSTART:20180101T000000
END:STANDARD
END:VTIMEZONE
BEGIN:VEVENT
DTSTART;TZID=Asia/Shanghai:20181121T170000
DTEND;TZID=Asia/Shanghai:20181121T180000
DTSTAMP:20260426T073222
CREATED:20181119T024932Z
LAST-MODIFIED:20210202T184527Z
UID:19549-1542819600-1542823200@hc.um.edu.mo
SUMMARY:Greater Bay Sharing
DESCRIPTION:
URL:https://hc.um.edu.mo/event/greater-bay-sharing/
LOCATION:E12-G025\, Honours College\, UM
ATTACH;FMTTYPE=image/jpeg:https://hc.um.edu.mo/wp-content/uploads/2018/11/Greater-bay-sharing_Poster_web.jpg
END:VEVENT
END:VCALENDAR