BEGIN:VCALENDAR
VERSION:2.0
PRODID:-//Honours College - ECPv5.4.0.2//NONSGML v1.0//EN
CALSCALE:GREGORIAN
METHOD:PUBLISH
X-WR-CALNAME:Honours College
X-ORIGINAL-URL:https://hc.um.edu.mo
X-WR-CALDESC:Events for Honours College
BEGIN:VTIMEZONE
TZID:Asia/Macau
BEGIN:STANDARD
TZOFFSETFROM:+0800
TZOFFSETTO:+0800
TZNAME:CST
DTSTART:20220101T000000
END:STANDARD
END:VTIMEZONE
BEGIN:VEVENT
DTSTART;TZID=Asia/Macau:20220326T133000
DTEND;TZID=Asia/Macau:20220326T160000
DTSTAMP:20260426T111920
CREATED:20220325T031041Z
LAST-MODIFIED:20220325T031202Z
UID:32987-1648301400-1648310400@hc.um.edu.mo
SUMMARY:HC Promotion Month Activity Series: Assistive Technology Experience Day
DESCRIPTION:
URL:https://hc.um.edu.mo/event/hc-promotion-month-activity-series-assistive-technology-experience-day/
LOCATION:Macau Assistive Technology Resource Center
END:VEVENT
END:VCALENDAR