BEGIN:VCALENDAR
VERSION:2.0
PRODID:-//Honours College - ECPv5.4.0.2//NONSGML v1.0//EN
CALSCALE:GREGORIAN
METHOD:PUBLISH
X-WR-CALNAME:Honours College
X-ORIGINAL-URL:https://hc.um.edu.mo
X-WR-CALDESC:Events for Honours College
BEGIN:VTIMEZONE
TZID:Asia/Macau
BEGIN:STANDARD
TZOFFSETFROM:+0800
TZOFFSETTO:+0800
TZNAME:CST
DTSTART:20220101T000000
END:STANDARD
END:VTIMEZONE
BEGIN:VEVENT
DTSTART;TZID=Asia/Macau:20220323T173000
DTEND;TZID=Asia/Macau:20220323T190000
DTSTAMP:20260426T074314
CREATED:20220325T031515Z
LAST-MODIFIED:20220325T031515Z
UID:33005-1648056600-1648062000@hc.um.edu.mo
SUMMARY:HC Promotion Month Activity Series: HC Certificate Programme Talk
DESCRIPTION:
URL:https://hc.um.edu.mo/event/hc-promotion-month-activity-series-hc-certificate-programme-talk/
LOCATION:E12-G025
END:VEVENT
END:VCALENDAR