BEGIN:VCALENDAR
VERSION:2.0
PRODID:-//Honours College - ECPv5.4.0.2//NONSGML v1.0//EN
CALSCALE:GREGORIAN
METHOD:PUBLISH
X-WR-CALNAME:Honours College
X-ORIGINAL-URL:https://hc.um.edu.mo
X-WR-CALDESC:Events for Honours College
BEGIN:VTIMEZONE
TZID:Asia/Shanghai
BEGIN:STANDARD
TZOFFSETFROM:+0800
TZOFFSETTO:+0800
TZNAME:CST
DTSTART:20180101T000000
END:STANDARD
END:VTIMEZONE
BEGIN:VEVENT
DTSTART;TZID=Asia/Shanghai:20181010T170000
DTEND;TZID=Asia/Shanghai:20181010T183000
DTSTAMP:20260425T233151
CREATED:20181003T014405Z
LAST-MODIFIED:20210202T184709Z
UID:19065-1539190800-1539196200@hc.um.edu.mo
SUMMARY:HCSA Election Day 2019-2020
DESCRIPTION:
URL:https://hc.um.edu.mo/event/hcsa-election-day-2019-2020/
LOCATION:E12-G025\, Honours College\, UM
ATTACH;FMTTYPE=image/jpeg:https://hc.um.edu.mo/wp-content/uploads/2018/10/Poster.jpg
END:VEVENT
END:VCALENDAR