BEGIN:VCALENDAR
VERSION:2.0
PRODID:-//Honours College - ECPv5.4.0.2//NONSGML v1.0//EN
CALSCALE:GREGORIAN
METHOD:PUBLISH
X-WR-CALNAME:Honours College
X-ORIGINAL-URL:https://hc.um.edu.mo
X-WR-CALDESC:Events for Honours College
BEGIN:VTIMEZONE
TZID:Asia/Shanghai
BEGIN:STANDARD
TZOFFSETFROM:+0800
TZOFFSETTO:+0800
TZNAME:CST
DTSTART:20160101T000000
END:STANDARD
END:VTIMEZONE
BEGIN:VEVENT
DTSTART;TZID=Asia/Shanghai:20160420T163000
DTEND;TZID=Asia/Shanghai:20160420T180000
DTSTAMP:20260426T112751
CREATED:20160408T030208Z
LAST-MODIFIED:20210202T185821Z
UID:8971-1461169800-1461175200@hc.um.edu.mo
SUMMARY:HCSA: News Discussion Forum by Dr. Tianji CAI
DESCRIPTION:
URL:https://hc.um.edu.mo/event/hcsa-new-discussion-forum-by-dr-tianji-cai/
LOCATION:E12-G025\, Honours College\, UM
ATTACH;FMTTYPE=image/jpeg:https://hc.um.edu.mo/wp-content/uploads/2016/04/NDF_20160420.jpg
END:VEVENT
END:VCALENDAR