BEGIN:VCALENDAR
VERSION:2.0
PRODID:-//Honours College - ECPv5.4.0.2//NONSGML v1.0//EN
CALSCALE:GREGORIAN
METHOD:PUBLISH
X-WR-CALNAME:Honours College
X-ORIGINAL-URL:https://hc.um.edu.mo
X-WR-CALDESC:Events for Honours College
BEGIN:VTIMEZONE
TZID:Asia/Shanghai
BEGIN:STANDARD
TZOFFSETFROM:+0800
TZOFFSETTO:+0800
TZNAME:CST
DTSTART:20160101T000000
END:STANDARD
END:VTIMEZONE
BEGIN:VEVENT
DTSTART;TZID=Asia/Shanghai:20160127T160000
DTEND;TZID=Asia/Shanghai:20160127T173000
DTSTAMP:20260426T111732
CREATED:20160119T093431Z
LAST-MODIFIED:20210202T190210Z
UID:7174-1453910400-1453915800@hc.um.edu.mo
SUMMARY:Honours Forum by Prof. FU Jingkun
DESCRIPTION:
URL:https://hc.um.edu.mo/event/honours-forum-by-prof-fu-jingkun/
LOCATION:E12-G025\, Honours College\, UM
ATTACH;FMTTYPE=image/jpeg:https://hc.um.edu.mo/wp-content/uploads/2016/01/HF15-16_DS2_poster.jpg
END:VEVENT
END:VCALENDAR